BEGIN:VCALENDAR
VERSION:2.0
PRODID:-//Nómadas Digitales - ECPv6.14.2//NONSGML v1.0//EN
CALSCALE:GREGORIAN
METHOD:PUBLISH
X-WR-CALNAME:Nómadas Digitales
X-ORIGINAL-URL:https://spainfornomads.entornodepruebas.net
X-WR-CALDESC:Eventos para Nómadas Digitales
REFRESH-INTERVAL;VALUE=DURATION:PT1H
X-Robots-Tag:noindex
X-PUBLISHED-TTL:PT1H
BEGIN:VTIMEZONE
TZID:Europe/Madrid
BEGIN:DAYLIGHT
TZOFFSETFROM:+0100
TZOFFSETTO:+0200
TZNAME:CEST
DTSTART:20260329T010000
END:DAYLIGHT
BEGIN:STANDARD
TZOFFSETFROM:+0200
TZOFFSETTO:+0100
TZNAME:CET
DTSTART:20261025T010000
END:STANDARD
END:VTIMEZONE
BEGIN:VEVENT
DTSTART;VALUE=DATE:20260101
DTEND;VALUE=DATE:20261201
DTSTAMP:20260422T014931
CREATED:20251228T142036Z
LAST-MODIFIED:20260308T074819Z
UID:10000011-1767225600-1796083199@spainfornomads.entornodepruebas.net
SUMMARY:1‑Month Surf & Work
DESCRIPTION:Remote Work & Surf Retreat – Pueblos surferos cuidadosamente seleccionados en España y Portugal\nDisfruta de lo mejor de la costa española con el programa de surf y trabajo de un mes de duración. Perfecto para los trabajadores remotos que buscan equilibrio\, este paquete combina jornadas laborales productivas con sesiones de surf en playas impresionantes. Alójate en modernos espacios de convivencia\, disfruta de una conexión a Internet de alta velocidad y sumérgete en un estilo de vida saludable y activo junto al mar. \nDatos clave\n\nDuración: 1 mes\, fechas de inicio flexibles.\nUbicación: Pueblos surferos cuidadosamente seleccionados a lo largo de la costa española.\nConectividad: Internet de alta velocidad por fibra óptica.\nEstilo de vida: Trabaja de forma remota\, practica surf a diario y recarga energías en la naturaleza.\nEnfoque: Productividad\, bienestar y aventura.\n\n\n\nQué incluye:\n\n\n\n\n\n\n\n\n\nHabitación privada en una villa compartida para surfistas o en un Coliving frente al mar.\nEspacios de coworking totalmente equipados con Wi-Fi de alta velocidad.\nLimpieza semanal y artículos básicos para el hogar.\nAcceso al alquiler de tablas de surf y equipo (clases opcionales).\nCenas comunitarias\, talleres y experiencias culturales.
URL:https://spainfornomads.entornodepruebas.net/evento/1-month-surf-work/
CATEGORIES:Retiros
ATTACH;FMTTYPE=image/jpeg:https://spainfornomads.entornodepruebas.net/wp-content/uploads/2025/12/man-surfboard-sea-showing-shaka-hand-sign-scaled.jpg
END:VEVENT
BEGIN:VEVENT
DTSTART;VALUE=DATE:20260511
DTEND;VALUE=DATE:20260519
DTSTAMP:20260422T014931
CREATED:20251222T151400Z
LAST-MODIFIED:20260303T124254Z
UID:10000005-1778457600-1779148799@spainfornomads.entornodepruebas.net
SUMMARY:NomadBase Live Tarifa 2026
DESCRIPTION:Una “workation” / evento comunitario presencial para nómadas digitales y emprendedores remotos\, con mezcla de trabajo\, talleres\, comunidad\, ambiente al aire libre. \nQué se ofrece: \n\nTodas las conferencias magistrales.\nEventos sociales diarios y fiestas épicas.\nAcceso a excursiones y encuentros comunitarios.\nOportunidades para establecer contactos con nómadas inspiradores de todo el mundo.\nAcceso a talleres impartidos por expertos (la mayoría por las mañanas)\nSesiones prácticas para mejorar tu negocio\, tu mentalidad y tus habilidades\nGrupos más reducidos para un aprendizaje más profundo y una mejor interconexión\n\nTarifa:\nDescubre Tarifa\, la ciudad más meridional de Europa\, donde se unen la historia\, la aventura y el relax. Con 38 kilómetros de atractivas playas de arena\, es la capital europea del kitesurf y el punto de partida ideal para emocionantes excursiones de un día a África y Gibraltar. Explora el encantador casco antiguo\, disfruta de paseos a caballo y rutas de senderismo con vistas panorámicas\, y saborea los deliciosos platos de sus acogedoras cafeterías y bares de tapas.
URL:https://spainfornomads.entornodepruebas.net/evento/nomadbase-live-tarifa-2026/
LOCATION:Tarifa\, Tarifa\, Cádiz\, 11380\, Spain
CATEGORIES:Eventos para Nómadas Digitales
ATTACH;FMTTYPE=image/jpeg:https://spainfornomads.entornodepruebas.net/wp-content/uploads/2025/12/conference-presentation-scaled.jpg
END:VEVENT
END:VCALENDAR