BEGIN:VCALENDAR
VERSION:2.0
PRODID:-//Nómadas Digitales - ECPv6.14.2//NONSGML v1.0//EN
CALSCALE:GREGORIAN
METHOD:PUBLISH
X-ORIGINAL-URL:https://spainfornomads.entornodepruebas.net
X-WR-CALDESC:Eventos para Nómadas Digitales
REFRESH-INTERVAL;VALUE=DURATION:PT1H
X-Robots-Tag:noindex
X-PUBLISHED-TTL:PT1H
BEGIN:VTIMEZONE
TZID:Europe/Madrid
BEGIN:DAYLIGHT
TZOFFSETFROM:+0100
TZOFFSETTO:+0200
TZNAME:CEST
DTSTART:20260329T010000
END:DAYLIGHT
BEGIN:STANDARD
TZOFFSETFROM:+0200
TZOFFSETTO:+0100
TZNAME:CET
DTSTART:20261025T010000
END:STANDARD
END:VTIMEZONE
BEGIN:VEVENT
DTSTART;VALUE=DATE:20260420
DTEND;VALUE=DATE:20260427
DTSTAMP:20260421T185458
CREATED:20251222T090909Z
LAST-MODIFIED:20260306T194928Z
UID:10000004-1776643200-1777247999@spainfornomads.entornodepruebas.net
SUMMARY:Alicante Nomad Summit 2026
DESCRIPTION:Una semana completa de talleres\, meet-ups\, coworking\, actividades sociales para nómadas digitales\, creadores y profesionales remotos. \nÚnete a más de 350 nómadas para aprender de forma práctica\, establecer conexiones significativas y dedicar una semana a diseñar un estilo de vida del que no necesites desconectar. \n¡Prepárate para visitar lugares increíbles y probar cosas nuevas! \nQué esperar: \n\nCharlas prácticas y paneles innovadores.\nCírculos para compartir habilidades y talleres interactivos.\nDemostraciones de herramientas\, laboratorios tecnológicos y flujos de trabajo en directo.\nHoras de bienestar\, sesiones de coworking y aventuras locales.\nUna comunidad diversa y curiosa de creadores y exploradores.\n\nDisfruta del encanto único de Alicante mientras participas en divertidos eventos y actividades sociales. Saborea la deliciosa gastronomía local\, toma el sol y crea recuerdos inolvidables en una de las ciudades más sostenibles y acogedoras de España.
URL:https://spainfornomads.entornodepruebas.net/evento/alicante-nomad-summit-2026/
LOCATION:Palacio el Portalet\, C. Llauradors\, 15\, Alicante\, 03002\, Spain
CATEGORIES:Eventos para Nómadas Digitales
ATTACH;FMTTYPE=image/jpeg:https://spainfornomads.entornodepruebas.net/wp-content/uploads/2025/12/Alicante-SUmmit-26.jpg
END:VEVENT
BEGIN:VEVENT
DTSTART;VALUE=DATE:20260814
DTEND;VALUE=DATE:20260818
DTSTAMP:20260421T185458
CREATED:20251228T144605Z
LAST-MODIFIED:20260303T123534Z
UID:10000013-1786665600-1787011199@spainfornomads.entornodepruebas.net
SUMMARY:Gourmet & Entrepreneur Retreat – Girona
DESCRIPTION:Este inolvidable viaje incluye una cena en el emblemático restaurante El Celler de Can Roca\, galardonado con tres estrellas Michelin y coronado como el mejor restaurante del mundo en 2013 y 2015. También explorarás una bodega histórica de 600 años de antigüedad y recibirás una guía sobre el arte de maridar quesos y vinos españoles. \nEste retiro personalizado de Nomad Home nos sumerge en las mejores experiencias culinarias de España\, al tiempo que nos permite establecer conexiones significativas con un selecto grupo de emprendedores y creativos. \n\nAlojamiento: Esperit Roca: Hotel boutique de lujo y restaurante con 1 estrella Michelin\nCena: El Celler de Can Roca: restaurante con 3 estrellas Michelin\nVisita a la bodega: con almuerzo en los viñedos de una de las bodegas más prestigiosas de España
URL:https://spainfornomads.entornodepruebas.net/evento/gourmet-entrepreneur-retreat-girona-2/
LOCATION:Esperit Roca Girona\, Carrer Major\, 1\, Girona\, 17481\, Spain
CATEGORIES:Retiros
ATTACH;FMTTYPE=image/jpeg:https://spainfornomads.entornodepruebas.net/wp-content/uploads/2025/12/lunch-with-friends-scaled.jpg
END:VEVENT
END:VCALENDAR