BEGIN:VCALENDAR
VERSION:2.0
PRODID:-//Nómadas Digitales - ECPv6.14.2//NONSGML v1.0//EN
CALSCALE:GREGORIAN
METHOD:PUBLISH
X-ORIGINAL-URL:https://spainfornomads.entornodepruebas.net
X-WR-CALDESC:Eventos para Nómadas Digitales
REFRESH-INTERVAL;VALUE=DURATION:PT1H
X-Robots-Tag:noindex
X-PUBLISHED-TTL:PT1H
BEGIN:VTIMEZONE
TZID:Europe/Madrid
BEGIN:DAYLIGHT
TZOFFSETFROM:+0100
TZOFFSETTO:+0200
TZNAME:CEST
DTSTART:20260329T010000
END:DAYLIGHT
BEGIN:STANDARD
TZOFFSETFROM:+0200
TZOFFSETTO:+0100
TZNAME:CET
DTSTART:20261025T010000
END:STANDARD
END:VTIMEZONE
BEGIN:VEVENT
DTSTART;VALUE=DATE:20260302
DTEND;VALUE=DATE:20260306
DTSTAMP:20260421T230247
CREATED:20251227T171306Z
LAST-MODIFIED:20260308T074235Z
UID:10000006-1772409600-1772755199@spainfornomads.entornodepruebas.net
SUMMARY:MWC Barcelona 2026
DESCRIPTION:Congreso mundial de tecnología y comunicaciones móviles. Consigue tu pase para acceder a la innovación global\, información sobre conectividad y oportunidades de negocio. \nDesde innovaciones reveladoras hasta ideas que amplían la mente\, pasando por políticas globales y asociaciones duraderas\, todo comienza aquí. Tanto si eres un actor clave en el ecosistema de la conectividad\, en industrias adyacentes o en el amplio mundo de la tecnología\, aquí encontrarás todo lo que necesitas y mucho más. \nMás de 109 000 asistentes.\nMás de 2900 expositores\, patrocinadores y socios.\n205 países y territorios.\n56 % de asistencia de industrias asociadas.\nMás de 66 ministros de gobiernos de todo el mundo. \nSea cual sea tu interés (conocimiento de la industria\, innovación radical\, negocios potenciados\, liderazgo en políticas)\, MWC lo tiene. \n 
URL:https://spainfornomads.entornodepruebas.net/evento/mwc-barcelona-2026/
LOCATION:MWC Barcelona 2026\, Fira Gran Via\, Barcelona\, Cataluña\, 08908\, Spain
CATEGORIES:Tecnología e Inovación
ATTACH;FMTTYPE=image/jpeg:https://spainfornomads.entornodepruebas.net/wp-content/uploads/2025/12/MWC-Barcelona-2026.jpg
END:VEVENT
BEGIN:VEVENT
DTSTART;VALUE=DATE:20260308
DTEND;VALUE=DATE:20260313
DTSTAMP:20260421T230248
CREATED:20251228T123426Z
LAST-MODIFIED:20260306T200520Z
UID:10000007-1772928000-1773359999@spainfornomads.entornodepruebas.net
SUMMARY:WEB 2026 – The Fourteenth International Conference on Building and Exploring Web Based Environments
DESCRIPTION:Trends on WEB-based services/applications\nTrends on WEB-based data processing/analytics\nSmart Mobile Web\nWeb fundamentals\nCommunities\nSemantic Web Designing and Programming\nHuman-Web Interaction\nWeb Accessibility\nServices and Applications
URL:https://spainfornomads.entornodepruebas.net/evento/web-2026-the-fourteenth-international-conference-on-building-and-exploring-web-based-environments/
LOCATION:Valencia\, Escritor Rafael Ferreres 22\, Valencia\, 46013\, Spain
CATEGORIES:Tecnología e Inovación
ATTACH;FMTTYPE=image/jpeg:https://spainfornomads.entornodepruebas.net/wp-content/uploads/2025/12/Valencia.jpg
END:VEVENT
BEGIN:VEVENT
DTSTART;VALUE=DATE:20260605
DTEND;VALUE=DATE:20260606
DTSTAMP:20260421T230248
CREATED:20251228T140246Z
LAST-MODIFIED:20260303T124433Z
UID:10000010-1780617600-1780703999@spainfornomads.entornodepruebas.net
SUMMARY:Commit Conf 2026
DESCRIPTION:Commit es el evento donde las comunidades tecnológicas nos reunimos para explorar diferentes formas de crear\, gestionar y compartir tecnología. Únete a nosotros durante dos días para intercambiar conocimientos\, descubrir novedades y aprovechar la oportunidad de salir de la rutina y probar algo nuevo. Nos vemos en Madrid el 5 y 6 de junio. \n\n2 días\n7 tracks\n+70 sesiones\n+1000 asistentes\n\nCommit ofrece una oportunidad única para aprender sobre las últimas tecnologías\, conectar con profesionales en tu campo y experimentar fuera de tu zona de confort. \nPosicionar tu marca\, conectar con tu audiencia y ser parte de las conversaciones que arrancan cuando hay equipos que descubren juntos nuevas maneras de crear software.
URL:https://spainfornomads.entornodepruebas.net/evento/commit-conf-2026/
LOCATION:Escuela Técnica Superior de Ingeniería de Sistemas Informáticos\, Campus Sur de la UPM\, C. de Alan Turing\, s/n\, Madrid\, Madrid\, 28031\, Spain
CATEGORIES:Tecnología e Inovación
ATTACH;FMTTYPE=image/jpeg:https://spainfornomads.entornodepruebas.net/wp-content/uploads/2025/12/Commit-Conf-2026.jpg
END:VEVENT
END:VCALENDAR